BEGIN:VCALENDAR
VERSION:2.0
PRODID:-//Kulturni dom - ECPv6.8.2.1//NONSGML v1.0//EN
CALSCALE:GREGORIAN
METHOD:PUBLISH
X-WR-CALNAME:Kulturni dom
X-ORIGINAL-URL:https://kulturnidom.it/wp
X-WR-CALDESC:Events for Kulturni dom
REFRESH-INTERVAL;VALUE=DURATION:PT1H
X-Robots-Tag:noindex
X-PUBLISHED-TTL:PT1H
BEGIN:VTIMEZONE
TZID:Europe/Rome
BEGIN:DAYLIGHT
TZOFFSETFROM:+0100
TZOFFSETTO:+0200
TZNAME:CEST
DTSTART:20260329T010000
END:DAYLIGHT
BEGIN:STANDARD
TZOFFSETFROM:+0200
TZOFFSETTO:+0100
TZNAME:CET
DTSTART:20261025T010000
END:STANDARD
END:VTIMEZONE
BEGIN:VEVENT
DTSTART;TZID=Europe/Rome:20260420T200000
DTEND;TZID=Europe/Rome:20260420T213000
DTSTAMP:20260420T015138
CREATED:20250711T090230Z
LAST-MODIFIED:20250711T090230Z
UID:5974-1776715200-1776720600@kulturnidom.it
SUMMARY:VERONIKA DESENIŠKA - Abonma SSG
DESCRIPTION:Oton Župančič\nVERONIKA DESENIŠKA\n\n\n\n\nRežiserka\nMaruša Kink\n\n\n\n\n\nProdukcija\nSlovensko stalno gledališče\n\n\n\n\n\n\nLjubezenska in psihološka drama temelji na zgodovinskih dogodkih o prepovedani ljubezni med Friderikom II. Celjskim in Veroniko Deseniško\, ki jo je njegov oče\, grof Herman II. Celjski\, obtožil čarovništva. Veronika ostaja simbol poguma in upora proti moči in krivici v času\, ko je bilo zatiranje žensk\, kot tudi podleganje neutemeljenim predsodkom\, ustaljena praksa. \nPREDVPIS ABONMAJA S POPUSTOM do 31. julija\nkontakti in urniki za poletni vpis:\nGORICA od ponedeljka do petka 8.30-13.00/ tel 0481 33288\nProgram za goriške abonente obsega pet uprizoritev SSG\, gostujočo predstavo in dva dogodka Kulturnega doma in Kulturnega centra Lojze Bratuž v Gorici. Vse dramske predstave so opremljene z italijanskimi nadnapisi. Brezplačen prevoz iz okolice Gorice je možen po dogovoru (rezervacije pri blagajni Kulturnega doma Gorica). \nKulturni dom Gorica\nponedeljek-petek: 9.00-13.00 / 15.00-18.00\nUl. I. Brass 20\ntel +39 0481 33288\ne-pošta: info@kulturnidom.it \nKulturni center Lojze Bratuž\nDrevored 20. septembra 85\ntel +39 0481 531445\ne-pošta: info@centerbratuz.org
URL:https://kulturnidom.it/wp/evento/veronika-deseniska-abonma-ssg/
LOCATION:Kulturni dom\, ul. Brass 20\, Gorica\, 34170\, Italy
CATEGORIES:Abonma SSG
ATTACH;FMTTYPE=image/jpeg:https://kulturnidom.it/wp/wp-content/uploads/2025/07/nemirne-duse-SSG-2025.jpg
END:VEVENT
END:VCALENDAR